Workbook

Sheet 产品成本
A1: 塑料产品原料成本表
A2: 价格日期 2026-10-10 · 橙色格子填写，其余自动计算 · 来源 pla365.com
A4: 产品名称 | B4: 原料 | C4: 单件克重(g) | D4: 损耗率(%) | E4: 色母/助剂(%) | F4: 色母单价(元/kg) | G4: 原料价(元/吨) | H4: 单件原料成本(元) | I4: 每千件(元) | J4: 每万件(元)
A5: 餐盒（示例） | B5: PP拉丝 | C5: 18 | D5: 3 | E5: 2 | F5: 25 | G5: =IFERROR(VLOOKUP(B5,原料价格!$A$5:$B$12,2,FALSE),"") | H5: =IF(OR(C5="",G5=""),"",C5*(1+D5/100)*((1-E5/100)*G5/1000000+E5/100*F5/1000)) | I5: =IF(H5="","",H5*1000) | J5: =IF(H5="","",H5*10000)
A6: 吹膜袋（示例） | B6: LLDPE | C6: 6 | D6: 4 | E6: 1 | F6: 20 | G6: =IFERROR(VLOOKUP(B6,原料价格!$A$5:$B$12,2,FALSE),"") | H6: =IF(OR(C6="",G6=""),"",C6*(1+D6/100)*((1-E6/100)*G6/1000000+E6/100*F6/1000)) | I6: =IF(H6="","",H6*1000) | J6: =IF(H6="","",H6*10000)
A7: 管件（示例） | B7: PVC SG-5 | C7: 120 | D7: 2 | E7: 0 | F7: 0 | G7: =IFERROR(VLOOKUP(B7,原料价格!$A$5:$B$12,2,FALSE),"") | H7: =IF(OR(C7="",G7=""),"",C7*(1+D7/100)*((1-E7/100)*G7/1000000+E7/100*F7/1000)) | I7: =IF(H7="","",H7*1000) | J7: =IF(H7="","",H7*10000)
G8: =IFERROR(VLOOKUP(B8,原料价格!$A$5:$B$12,2,FALSE),"") | H8: =IF(OR(C8="",G8=""),"",C8*(1+D8/100)*((1-E8/100)*G8/1000000+E8/100*F8/1000)) | I8: =IF(H8="","",H8*1000) | J8: =IF(H8="","",H8*10000)
G9: =IFERROR(VLOOKUP(B9,原料价格!$A$5:$B$12,2,FALSE),"") | H9: =IF(OR(C9="",G9=""),"",C9*(1+D9/100)*((1-E9/100)*G9/1000000+E9/100*F9/1000)) | I9: =IF(H9="","",H9*1000) | J9: =IF(H9="","",H9*10000)
G10: =IFERROR(VLOOKUP(B10,原料价格!$A$5:$B$12,2,FALSE),"") | H10: =IF(OR(C10="",G10=""),"",C10*(1+D10/100)*((1-E10/100)*G10/1000000+E10/100*F10/1000)) | I10: =IF(H10="","",H10*1000) | J10: =IF(H10="","",H10*10000)
G11: =IFERROR(VLOOKUP(B11,原料价格!$A$5:$B$12,2,FALSE),"") | H11: =IF(OR(C11="",G11=""),"",C11*(1+D11/100)*((1-E11/100)*G11/1000000+E11/100*F11/1000)) | I11: =IF(H11="","",H11*1000) | J11: =IF(H11="","",H11*10000)
G12: =IFERROR(VLOOKUP(B12,原料价格!$A$5:$B$12,2,FALSE),"") | H12: =IF(OR(C12="",G12=""),"",C12*(1+D12/100)*((1-E12/100)*G12/1000000+E12/100*F12/1000)) | I12: =IF(H12="","",H12*1000) | J12: =IF(H12="","",H12*10000)
G13: =IFERROR(VLOOKUP(B13,原料价格!$A$5:$B$12,2,FALSE),"") | H13: =IF(OR(C13="",G13=""),"",C13*(1+D13/100)*((1-E13/100)*G13/1000000+E13/100*F13/1000)) | I13: =IF(H13="","",H13*1000) | J13: =IF(H13="","",H13*10000)
G14: =IFERROR(VLOOKUP(B14,原料价格!$A$5:$B$12,2,FALSE),"") | H14: =IF(OR(C14="",G14=""),"",C14*(1+D14/100)*((1-E14/100)*G14/1000000+E14/100*F14/1000)) | I14: =IF(H14="","",H14*1000) | J14: =IF(H14="","",H14*10000)
G15: =IFERROR(VLOOKUP(B15,原料价格!$A$5:$B$12,2,FALSE),"") | H15: =IF(OR(C15="",G15=""),"",C15*(1+D15/100)*((1-E15/100)*G15/1000000+E15/100*F15/1000)) | I15: =IF(H15="","",H15*1000) | J15: =IF(H15="","",H15*10000)
G16: =IFERROR(VLOOKUP(B16,原料价格!$A$5:$B$12,2,FALSE),"") | H16: =IF(OR(C16="",G16=""),"",C16*(1+D16/100)*((1-E16/100)*G16/1000000+E16/100*F16/1000)) | I16: =IF(H16="","",H16*1000) | J16: =IF(H16="","",H16*10000)
G17: =IFERROR(VLOOKUP(B17,原料价格!$A$5:$B$12,2,FALSE),"") | H17: =IF(OR(C17="",G17=""),"",C17*(1+D17/100)*((1-E17/100)*G17/1000000+E17/100*F17/1000)) | I17: =IF(H17="","",H17*1000) | J17: =IF(H17="","",H17*10000)
G18: =IFERROR(VLOOKUP(B18,原料价格!$A$5:$B$12,2,FALSE),"") | H18: =IF(OR(C18="",G18=""),"",C18*(1+D18/100)*((1-E18/100)*G18/1000000+E18/100*F18/1000)) | I18: =IF(H18="","",H18*1000) | J18: =IF(H18="","",H18*10000)
G19: =IFERROR(VLOOKUP(B19,原料价格!$A$5:$B$12,2,FALSE),"") | H19: =IF(OR(C19="",G19=""),"",C19*(1+D19/100)*((1-E19/100)*G19/1000000+E19/100*F19/1000)) | I19: =IF(H19="","",H19*1000) | J19: =IF(H19="","",H19*10000)
... G34: =IFERROR(VLOOKUP(B34,原料价格!$A$5:$B$12,2,FALSE),"") | H34: =IF(OR(C34="",G34=""),"",C34*(1+D34/100)*((1-E34/100)*G34/1000000+E34/100*F34/1000)) | I34: =IF(H34="","",H34*1000) | J34: =IF(H34="","",H34*10000)

Sheet 原料价格
A1: 原料价格（2026-10-10 生意社基准价，元/吨，含税）
A2: 每天最新价格：pla365.com · 微信公众号「塑价365」 · 可直接改成你自己的进价
A4: 原料 | B4: 价格（元/吨） | C4: 日涨跌 | D4: 更新时间
A5: PP拉丝 | B5: 10370 | C5: 0.00% | D5: 10-10 10:00
A6: LLDPE | B6: 9680 | C6: 0.00% | D6: 10-10 10:00
A7: HDPE | B7: 10662 | C7: 1.67% | D7: 10-09 16:20
A8: LDPE | B8: 12467 | C8: 2.47% | D8: 10-09 16:20
A9: PVC SG-5 | B9: 4880 | C9: 0.00% | D9: 10-10 10:00
A10: ABS | B10: 11733 | C10: 0.00% | D10: 10-10 10:00
A11: PS | B11: 11300 | C11: 0.00% | D11: 10-09 16:20
A12: PET | B12: 9044 | C12: 0.00% | D12: 10-10 10:00
A14: 橙色格子可以改：填你实际拿货价，成本表会自动重算。

Sheet 调价测算
A1: 原料涨价，产品该涨多少
A3: 上次报价时原料价（元/吨） | B3: 9464
A4: 现在原料价（元/吨） | B4: 10370
A5: 原料占产品成本比例（%） | B5: 60
A6: 产品现单价（元） | B6: 1
A8: 原料涨幅 | B8: =B4/B3-1
A9: 产品应调价幅度 | B9: =B8*B5/100
A10: 建议新单价（元） | B10: =B6*(1+B9)
A12: 在线生成调价函：pla365.com/tools/letter/
